BEGIN:VCALENDAR
VERSION:2.0
PRODID:-//Stichting Dijksynagoge - ECPv5.14.1//NONSGML v1.0//EN
CALSCALE:GREGORIAN
METHOD:PUBLISH
X-WR-CALNAME:Stichting Dijksynagoge
X-ORIGINAL-URL:https://dijksynagoge.nl
X-WR-CALDESC:Evenementen voor Stichting Dijksynagoge
BEGIN:VTIMEZONE
TZID:UTC
BEGIN:STANDARD
TZOFFSETFROM:+0000
TZOFFSETTO:+0000
TZNAME:UTC
DTSTART:20180101T000000
END:STANDARD
END:VTIMEZONE
BEGIN:VEVENT
DTSTART;TZID=UTC:20181106T200000
DTEND;TZID=UTC:20181106T220000
DTSTAMP:20260423T111249
CREATED:20180908T191915Z
LAST-MODIFIED:20181028T214303Z
UID:1498-1541534400-1541541600@dijksynagoge.nl
SUMMARY:SCHEPPING OF EVOLUTIE. Of: Hoe lezen Joden het scheppingsverhaal?
DESCRIPTION:Graag nodigen wij u van harte uit om een spreekbeurt van Rabbijn Albert Ringer bij te wonen. Hij is verbonden aan een van de joodse gemeentes in Rotterdam en voormalig rabbijn voor de Nederlandse krijgsmacht. Behalve dat u naar zijn boeiende verhalen kunt luisteren is er alle gelegenheid om ook met hem in gesprek te gaan. In zijn spreekbeurt van deze avond geeft hij antwoord op de vraag: Hoe lezen Joden het scheppingsverhaal. Van harte welkom om te luisteren en mee te discussiëren! Graag tot ziens bij de rabbijn!
URL:https://dijksynagoge.nl/activiteit/rabbijn-albert-ringer/
END:VEVENT
END:VCALENDAR