BEGIN:VCALENDAR
VERSION:2.0
PRODID:-//Stichting Dijksynagoge - ECPv5.14.1//NONSGML v1.0//EN
CALSCALE:GREGORIAN
METHOD:PUBLISH
X-WR-CALNAME:Stichting Dijksynagoge
X-ORIGINAL-URL:https://dijksynagoge.nl
X-WR-CALDESC:Evenementen voor Stichting Dijksynagoge
BEGIN:VTIMEZONE
TZID:UTC
BEGIN:STANDARD
TZOFFSETFROM:+0000
TZOFFSETTO:+0000
TZNAME:UTC
DTSTART:20160101T000000
END:STANDARD
END:VTIMEZONE
BEGIN:VEVENT
DTSTART;TZID=UTC:20161108T200000
DTEND;TZID=UTC:20161108T220000
DTSTAMP:20260424T071732
CREATED:20161002T144921Z
LAST-MODIFIED:20161002T144921Z
UID:1046-1478635200-1478642400@dijksynagoge.nl
SUMMARY:OPTREDEN TRIO TSYMBALOVA
DESCRIPTION:Zoals gezegd\, meer muziek in de Dijksynagoge! Graag verwelkomen wij samen met u het Trio Zymbalova\, bestaande uit Elliot Muusses\, Ruzana Tsymbalova en Suze Stiphout. Drie professionele musici welke tango\, jazz\, zigeunermuziek en zelfs klassiek spelen. Zij arrangeren alle muziek zelf waarbij improvisatie niet wordt geschuwd. \nWat opvalt als dit trio speelt is het speelplezier en het vermogen om de aandacht van het publiek te grijpen en vast te houden. Wees er op tijd bij want bij onze laatste voorstelling hebben wij mensen die niet gereserveerd hadden namelijk moeten teleurstellen\, het was al helemaal uitverkocht! De toegang bedraagt slechts: € 12\,50. \nKAARTEN RESERVEREN:  Per mail: info@dijksynagoge.nl | Telefonisch: 06 – 109 78 191
URL:https://dijksynagoge.nl/activiteit/optreden-trio-tsymbalova/
END:VEVENT
END:VCALENDAR