BEGIN:VCALENDAR
VERSION:2.0
PRODID:-//Stichting Dijksynagoge - ECPv5.14.1//NONSGML v1.0//EN
CALSCALE:GREGORIAN
METHOD:PUBLISH
X-WR-CALNAME:Stichting Dijksynagoge
X-ORIGINAL-URL:https://dijksynagoge.nl
X-WR-CALDESC:Evenementen voor Stichting Dijksynagoge
BEGIN:VTIMEZONE
TZID:UTC
BEGIN:STANDARD
TZOFFSETFROM:+0000
TZOFFSETTO:+0000
TZNAME:UTC
DTSTART:20160101T000000
END:STANDARD
END:VTIMEZONE
BEGIN:VEVENT
DTSTART;TZID=UTC:20160214T140000
DTEND;TZID=UTC:20160214T160000
DTSTAMP:20260421T123832
CREATED:20151103T212254Z
LAST-MODIFIED:20151103T212254Z
UID:812-1455458400-1455465600@dijksynagoge.nl
SUMMARY:Open dag
DESCRIPTION:
URL:https://dijksynagoge.nl/activiteit/open-dag-28/
END:VEVENT
END:VCALENDAR