BEGIN:VCALENDAR
VERSION:2.0
PRODID:-//Stichting Dijksynagoge - ECPv5.14.1//NONSGML v1.0//EN
CALSCALE:GREGORIAN
METHOD:PUBLISH
X-WR-CALNAME:Stichting Dijksynagoge
X-ORIGINAL-URL:https://dijksynagoge.nl
X-WR-CALDESC:Evenementen voor Stichting Dijksynagoge
BEGIN:VTIMEZONE
TZID:UTC
BEGIN:STANDARD
TZOFFSETFROM:+0000
TZOFFSETTO:+0000
TZNAME:UTC
DTSTART:20160101T000000
END:STANDARD
END:VTIMEZONE
BEGIN:VEVENT
DTSTART;TZID=UTC:20160109T140000
DTEND;TZID=UTC:20160109T160000
DTSTAMP:20260422T090843
CREATED:20151103T212125Z
LAST-MODIFIED:20151103T212125Z
UID:809-1452348000-1452355200@dijksynagoge.nl
SUMMARY:Open dag
DESCRIPTION:
URL:https://dijksynagoge.nl/activiteit/open-dag-25/
END:VEVENT
END:VCALENDAR