BEGIN:VCALENDAR
VERSION:2.0
PRODID:-//Stichting Dijksynagoge - ECPv5.14.1//NONSGML v1.0//EN
CALSCALE:GREGORIAN
METHOD:PUBLISH
X-WR-CALNAME:Stichting Dijksynagoge
X-ORIGINAL-URL:https://dijksynagoge.nl
X-WR-CALDESC:Evenementen voor Stichting Dijksynagoge
BEGIN:VTIMEZONE
TZID:UTC
BEGIN:STANDARD
TZOFFSETFROM:+0000
TZOFFSETTO:+0000
TZNAME:UTC
DTSTART:20230101T000000
END:STANDARD
END:VTIMEZONE
BEGIN:VEVENT
DTSTART;TZID=UTC:20230312T140000
DTEND;TZID=UTC:20230312T160000
DTSTAMP:20260421T091209
CREATED:20230307T192307Z
LAST-MODIFIED:20230307T192307Z
UID:2156-1678629600-1678636800@dijksynagoge.nl
SUMMARY:Open dag
DESCRIPTION:
URL:https://dijksynagoge.nl/activiteit/open-dag-117/
END:VEVENT
END:VCALENDAR