BEGIN:VCALENDAR
VERSION:2.0
PRODID:-//Stichting Dijksynagoge - ECPv5.14.1//NONSGML v1.0//EN
CALSCALE:GREGORIAN
METHOD:PUBLISH
X-WR-CALNAME:Stichting Dijksynagoge
X-ORIGINAL-URL:https://dijksynagoge.nl
X-WR-CALDESC:Evenementen voor Stichting Dijksynagoge
BEGIN:VTIMEZONE
TZID:UTC
BEGIN:STANDARD
TZOFFSETFROM:+0000
TZOFFSETTO:+0000
TZNAME:UTC
DTSTART:20220101T000000
END:STANDARD
END:VTIMEZONE
BEGIN:VEVENT
DTSTART;TZID=UTC:20221009T140000
DTEND;TZID=UTC:20221009T160000
DTSTAMP:20260423T005636
CREATED:20220330T194235Z
LAST-MODIFIED:20221008T183550Z
UID:2014-1665324000-1665331200@dijksynagoge.nl
SUMMARY:OPEN DAG
DESCRIPTION:
URL:https://dijksynagoge.nl/activiteit/open-dag-110/
END:VEVENT
END:VCALENDAR