BEGIN:VCALENDAR
VERSION:2.0
PRODID:-//Stichting Dijksynagoge - ECPv5.14.1//NONSGML v1.0//EN
CALSCALE:GREGORIAN
METHOD:PUBLISH
X-WR-CALNAME:Stichting Dijksynagoge
X-ORIGINAL-URL:https://dijksynagoge.nl
X-WR-CALDESC:Evenementen voor Stichting Dijksynagoge
BEGIN:VTIMEZONE
TZID:UTC
BEGIN:STANDARD
TZOFFSETFROM:+0000
TZOFFSETTO:+0000
TZNAME:UTC
DTSTART:20180101T000000
END:STANDARD
END:VTIMEZONE
BEGIN:VEVENT
DTSTART;TZID=UTC:20181013T200000
DTEND;TZID=UTC:20181013T223000
DTSTAMP:20260423T113107
CREATED:20180908T190812Z
LAST-MODIFIED:20180908T190812Z
UID:1494-1539460800-1539469800@dijksynagoge.nl
SUMMARY:MUZIEK MET LA MANOUCHE
DESCRIPTION:Het wordt zo langzamerhand van ons verwacht en de Dijksynagoge is hiervoor ook uitermate geschikt: muziek! Op zaterdagavond 13 oktober komt bij ons optreden: \nLa Manouche\nDeze groep heeft een muziekvoorstelling met de titel ‘ Ay Chavale”. Vrij vertaald betekent dit ‘ kom vrienden’. Het is een uitnodiging om met de heren van La Manouche mee te reizen met de zigeunerkaravaan. Het programma is doorspekt van hartverscheurende liederen uit de Roma- en Sinti cultuur. De warme gitaarklanken en temperamentvolle zang bezorgen menig luisteraar een kippenvel moment. Tijdens het concert waant men aan het kampvuur bij de woonwagen. Sentiment\, passie en weemoed vormen de rode draad bij La Manouche. \nKaarten: EUR 12\,50. Reserveren gewenst: info@dijksynagoge.nl / Tel: 06 – 109 78 191
URL:https://dijksynagoge.nl/activiteit/muziek-met-la-manouche/
ATTACH;FMTTYPE=image/jpeg:https://dijksynagoge.nl/2012/wp-content/uploads/2018/09/manouche.jpg
END:VEVENT
END:VCALENDAR