BEGIN:VCALENDAR
VERSION:2.0
PRODID:-//Stichting Dijksynagoge - ECPv5.14.1//NONSGML v1.0//EN
CALSCALE:GREGORIAN
METHOD:PUBLISH
X-WR-CALNAME:Stichting Dijksynagoge
X-ORIGINAL-URL:https://dijksynagoge.nl
X-WR-CALDESC:Evenementen voor Stichting Dijksynagoge
BEGIN:VTIMEZONE
TZID:UTC
BEGIN:STANDARD
TZOFFSETFROM:+0000
TZOFFSETTO:+0000
TZNAME:UTC
DTSTART:20180101T000000
END:STANDARD
END:VTIMEZONE
BEGIN:VEVENT
DTSTART;TZID=UTC:20181208T193000
DTEND;TZID=UTC:20181208T220000
DTSTAMP:20260423T041941
CREATED:20180908T191335Z
LAST-MODIFIED:20180908T191335Z
UID:1496-1544297400-1544306400@dijksynagoge.nl
SUMMARY:Chanoeka in de Dijksynagoge
DESCRIPTION:Op zaterdag 8 december vieren wij weer graag samen met U het traditionele Chanoekafeest. Het feest van de herinwijding van de Tempel. Een belangrijke gebeurtenis in de Joodse geschiedenis die haar actualiteitswaarde nog altijd heeft. Een tijd waarin de vrijheid om onbedreigd voor de Joodse identiteit uit te komen in het geding is. We nodigen u uit om samen met ons Chanoeka te vieren. Een avond van zingen\, verhalen vertellen en eten met elkaar. U bent van harte welkom! Heeft u een Chanoekia\, neem die dan mee!
URL:https://dijksynagoge.nl/activiteit/chanoeka-in-de-dijksynagoge/
END:VEVENT
END:VCALENDAR