BEGIN:VCALENDAR
VERSION:2.0
PRODID:-//Stichting Dijksynagoge - ECPv5.14.1//NONSGML v1.0//EN
CALSCALE:GREGORIAN
METHOD:PUBLISH
X-WR-CALNAME:Stichting Dijksynagoge
X-ORIGINAL-URL:http://dijksynagoge.nl
X-WR-CALDESC:Evenementen voor Stichting Dijksynagoge
BEGIN:VTIMEZONE
TZID:UTC
BEGIN:STANDARD
TZOFFSETFROM:+0000
TZOFFSETTO:+0000
TZNAME:UTC
DTSTART:20220101T000000
END:STANDARD
END:VTIMEZONE
BEGIN:VEVENT
DTSTART;TZID=UTC:20220910T140000
DTEND;TZID=UTC:20220910T160000
DTSTAMP:20260422T231548
CREATED:20220330T194138Z
LAST-MODIFIED:20220330T194138Z
UID:2008-1662818400-1662825600@dijksynagoge.nl
SUMMARY:OPEN DAG
DESCRIPTION:
URL:http://dijksynagoge.nl/activiteit/open-dag-107/
END:VEVENT
END:VCALENDAR