BEGIN:VCALENDAR
VERSION:2.0
PRODID:-//Stichting Dijksynagoge - ECPv5.14.1//NONSGML v1.0//EN
CALSCALE:GREGORIAN
METHOD:PUBLISH
X-WR-CALNAME:Stichting Dijksynagoge
X-ORIGINAL-URL:http://dijksynagoge.nl
X-WR-CALDESC:Evenementen voor Stichting Dijksynagoge
BEGIN:VTIMEZONE
TZID:UTC
BEGIN:STANDARD
TZOFFSETFROM:+0000
TZOFFSETTO:+0000
TZNAME:UTC
DTSTART:20220101T000000
END:STANDARD
END:VTIMEZONE
BEGIN:VEVENT
DTSTART;TZID=UTC:20220611T140000
DTEND;TZID=UTC:20220611T160000
DTSTAMP:20260421T134129
CREATED:20220330T193935Z
LAST-MODIFIED:20220330T193935Z
UID:1996-1654956000-1654963200@dijksynagoge.nl
SUMMARY:OPEN DAG
DESCRIPTION:
URL:http://dijksynagoge.nl/activiteit/open-dag-101/
END:VEVENT
END:VCALENDAR