BEGIN:VCALENDAR
VERSION:2.0
PRODID:-//Stichting Dijksynagoge - ECPv5.14.1//NONSGML v1.0//EN
CALSCALE:GREGORIAN
METHOD:PUBLISH
X-WR-CALNAME:Stichting Dijksynagoge
X-ORIGINAL-URL:http://dijksynagoge.nl
X-WR-CALDESC:Evenementen voor Stichting Dijksynagoge
BEGIN:VTIMEZONE
TZID:UTC
BEGIN:STANDARD
TZOFFSETFROM:+0000
TZOFFSETTO:+0000
TZNAME:UTC
DTSTART:20190101T000000
END:STANDARD
END:VTIMEZONE
BEGIN:VEVENT
DTSTART;TZID=UTC:20190309T200000
DTEND;TZID=UTC:20190309T220000
DTSTAMP:20260421T134939
CREATED:20190204T182258Z
LAST-MODIFIED:20190204T182258Z
UID:1528-1552161600-1552168800@dijksynagoge.nl
SUMMARY:Muziek met Bobby & Sanna
DESCRIPTION:Het duo NIHZ Bobby Rootveld & Sanna van Elst heeft inmiddels heel wat afgereisd in binnen- en buitenland. Ze hebben zelfs al 10x een muzikale tournee door Israël gedaan. ‘Cheyn\, Gabbers en Chajes’ is de titel van een luchtige Joods programma van het Duo. Een programma van ontspanning en gezelligheid\, in een stijl waarbij zij zich thuis voelen. Verhalen en anekdotes\, meestal komisch van aard\, komen uit verschillende hoeken van het joodse leven door de eeuwen heen bijeen.  \nKortom: een spannend en gevarieerd programma vol humoristische en vrolijke muziek!\nVooraf reserveren is gewenst\,  mail: info@dijksynagoge.nl of telefonisch: 06 – 109 78 191.\nToegang: € 12\,50.
URL:http://dijksynagoge.nl/activiteit/muziek-met-bobby-sanna/
END:VEVENT
END:VCALENDAR