BEGIN:VCALENDAR
VERSION:2.0
PRODID:-//Stichting Dijksynagoge - ECPv5.14.1//NONSGML v1.0//EN
CALSCALE:GREGORIAN
METHOD:PUBLISH
X-WR-CALNAME:Stichting Dijksynagoge
X-ORIGINAL-URL:http://dijksynagoge.nl
X-WR-CALDESC:Evenementen voor Stichting Dijksynagoge
BEGIN:VTIMEZONE
TZID:UTC
BEGIN:STANDARD
TZOFFSETFROM:+0000
TZOFFSETTO:+0000
TZNAME:UTC
DTSTART:20190101T000000
END:STANDARD
END:VTIMEZONE
BEGIN:VEVENT
DTSTART;TZID=UTC:20190331T150000
DTEND;TZID=UTC:20190331T170000
DTSTAMP:20260421T101948
CREATED:20190204T182546Z
LAST-MODIFIED:20190204T182605Z
UID:1530-1554044400-1554051600@dijksynagoge.nl
SUMMARY:Koor Beth Jehoeda
DESCRIPTION:Het joods koor “Beth Jehoeda” is opgericht in augustus 1995\, op verzoek van rabbijn Awraham Soetendorp en de toenmalige chazzan Peter Halpern.\nOnder leiding van dirigent Nancy Mayer zingt het koor prachtige modern Hebreeuwse liederen\, maar ook synagogale muziek en soms liedjes in Jiddisch of Ladino. \nVan harte welkom bij hun optreden.\nReserveren: info@dijksynagoge.nl of tel: 06 – 109 78 191 \nKaarten: € 7\,50. 
URL:http://dijksynagoge.nl/activiteit/koor-beth-jehoeda/
END:VEVENT
END:VCALENDAR